BEGIN:VCALENDAR
VERSION:2.0
PRODID:-//Columbia Golf &amp; Country Club - Claverack, NY - ECPv6.15.20//NONSGML v1.0//EN
CALSCALE:GREGORIAN
METHOD:PUBLISH
X-ORIGINAL-URL:https://columbiagolf.org
X-WR-CALDESC:Events for Columbia Golf &amp; Country Club - Claverack, NY
REFRESH-INTERVAL;VALUE=DURATION:PT1H
X-Robots-Tag:noindex
X-PUBLISHED-TTL:PT1H
BEGIN:VTIMEZONE
TZID:UTC
BEGIN:STANDARD
TZOFFSETFROM:+0000
TZOFFSETTO:+0000
TZNAME:UTC
DTSTART:20240101T000000
END:STANDARD
END:VTIMEZONE
BEGIN:VEVENT
DTSTART;TZID=UTC:20251103T000000
DTEND;TZID=UTC:20251103T235959
DTSTAMP:20260420T104721
CREATED:20251016T174810Z
LAST-MODIFIED:20251016T174835Z
UID:10000007-1762128000-1762214399@columbiagolf.org
SUMMARY:Range Closed for Season
DESCRIPTION:
URL:https://columbiagolf.org/event/range-closed-for-season/
CATEGORIES:Maintenance
END:VEVENT
END:VCALENDAR